BEGIN:VCALENDAR
VERSION:2.0
PRODID:-//Serbian Orthodox Church of Saint Sava in New York - ECPv6.15.20//NONSGML v1.0//EN
CALSCALE:GREGORIAN
METHOD:PUBLISH
X-ORIGINAL-URL:https://stsavanyc.org
X-WR-CALDESC:Events for Serbian Orthodox Church of Saint Sava in New York
REFRESH-INTERVAL;VALUE=DURATION:PT1H
X-Robots-Tag:noindex
X-PUBLISHED-TTL:PT1H
BEGIN:VTIMEZONE
TZID:America/New_York
BEGIN:DAYLIGHT
TZOFFSETFROM:-0500
TZOFFSETTO:-0400
TZNAME:EDT
DTSTART:20250309T070000
END:DAYLIGHT
BEGIN:STANDARD
TZOFFSETFROM:-0400
TZOFFSETTO:-0500
TZNAME:EST
DTSTART:20251102T060000
END:STANDARD
BEGIN:DAYLIGHT
TZOFFSETFROM:-0500
TZOFFSETTO:-0400
TZNAME:EDT
DTSTART:20260308T070000
END:DAYLIGHT
BEGIN:STANDARD
TZOFFSETFROM:-0400
TZOFFSETTO:-0500
TZNAME:EST
DTSTART:20261101T060000
END:STANDARD
BEGIN:DAYLIGHT
TZOFFSETFROM:-0500
TZOFFSETTO:-0400
TZNAME:EDT
DTSTART:20270314T070000
END:DAYLIGHT
BEGIN:STANDARD
TZOFFSETFROM:-0400
TZOFFSETTO:-0500
TZNAME:EST
DTSTART:20271107T060000
END:STANDARD
END:VTIMEZONE
BEGIN:VEVENT
DTSTART;VALUE=DATE:20260402
DTEND;VALUE=DATE:20260403
DTSTAMP:20260421T045202
CREATED:20250330T111200Z
LAST-MODIFIED:20260201T174640Z
UID:7436-1775088000-1775174399@stsavanyc.org
SUMMARY:Преподобни Оци поубијани у манастиру Светог Саве Освећеног
DESCRIPTION:Пролог за 20. март\n2. април по новом календару \n\n\n\nПреподобни мученици Јован и други\n\nПреподобни мученици Јован и други\, из обитељи светог Саве Освећеног код Јерусалима. Овај славни манастир\, посећиван и од светог Саве српског\, и обдарен од неколико владара српских\, и дан-данас постоји. Више пута нападан је од дивљих Арапа\, пљачкан и пустошен\, но Промишљу Божјом\, увек је обнављан и до данас сачуван. У време царовања Константина и Ирине би нападнут од Арапа и опљачкан. Монаси не хтеше бежати\, него саветујући се са својим игуманом Томом\, рекоше: „Ми смо одбегли из света у ову пустињу ради љубави Христове\, срамота је сад да бежимо из пустиње из страха од људи. Ако будемо убијени овде\, бићемо убијени због наше љубави према Христу\, због кога смо и дошли овде да живимо“. – И тако одлучивши\, дочекају ненаоружани оружане Арапе\, као јагањци вукове. Арапи неке од њих стрелама умртве\, а неке затворе у пећину светог Саве\, па наложе ватру на улазу\, те их димом угуше. И тако многи од њих скончају као мученици Христа ради и преселе се у царство Онога кога су љубили и ради чије су љубави изгинули. Чесно пострадаше пред Васкрс 796. године у време цара Константина и Ирине и патријарха јерусалимског Илије. Но убрзо постиже праведна казна дивље нападаче. Враћајући се својим шаторима\, они се посвађају и у узајамној борби сви изгину. То се догодило 796. године. \n\n\n\nСвета мученица Фотина\n\nТо је она жена Самарјанка која је имала ту ретку срећу да разговара са самим Гоподом Христом на Јаковљевом бунару код Сихема (Јн 4\, 1-42). Поверовавши у Господа\, она је после пошла да проповеда Његово Јеванђеље\, са своја два сина\, Виктором и Јосијом\, и са пет сестара које се зваху: Анатолија\, Фота\, Фотида\, Параскева и Кириакија. Дошли су били у Картагену у Африци. Но буду осуђени и у Рим доведени\, у време цара Нерона\, и у тамницу бачени. Божјим Промислом\, кћи Неронова Домнина дође у додир са светом Фотином\, и од ове буде обраћена у веру Христову. После тамновања сви пострадаше ради Христа. Фотина\, која је на бунару први пут била обасјана светлошћу истине\, буде бачена у бунар\, где сконча\, и оде у бесмртно царство Христово. \n\n\n\n\nHa бунару Христа срете Самарјанка жена.\nИ светлошћу самог Христа беше просвећена.\nПод Нероном живот сконча у другом бунару.\nИ дух даде Христу Богу своме господару.\nСинови joj славни беху\, Виктор и Joсиja.\nОбојицу света мајка светињом просија.\nПет сестара намучених за Христово име\nC њом одоше на небеса да награду приме.\nO Фотино покајнице\, дивна мученице\,\nКако сада вечним сјајем блиста твоје лице!\nНекад Спаса чак ни водом ниси напојила\,\nНапокон си и крв своју за Њега излила.\nДуша твоја некад мрачна\, док би Самарјанка\,\nНадсунчаним засја лучем кад поста Хришћанка.\nСа страхом си у Сихару Христа објавила\,\nСмрћу си Га усред Рима ти посведочила\,\nЉубав сваки страх убија и јунаком прави\,\nЉубав тебе\, o Фотино\, занавек прослави.\nНерон може сагорети и два и три Рима\,\nНо не може сагорети душу Хришћанима.\nНерон може полупати судове од глине\,\nНо немаде моћ никакву над духом Фотине.\nO бесмртна светитељко\, сад помози нама\,\nПред престолом Христа Спаса – твојим молитвама. \n\n\n\nРасуђивање\n\nНе кажњава Бог грешника зато што му чини задовољство да уништи човека. Јер да му то чини задовољство\, Он не би стварао човека ни из чега. Него кажњава грешника из више целисходних домостројних разлога\, од којих су два најочигледнија за нас: прво\, да би га казном поправио и на прави пут спасења извео\, а друго\, да би друге устрашио да не греше. Ово исто мисли св. Исак кад каже: „Праведни мудрац је сличан Богу\, јер он кажњава човека не да би му се осветио за грех него\, или да исправи човека\, или да друге устраши.“ Неки обесни младић\, који хуљаше на Бога и на родитеље своје\, наједанпут сиђе с ума. Цео град\, у коме живљаше тај младић\, виде у томе казну Божју и устраши се страхом Божјим. Младића држаху везана и затворена три године. А мајка његова плакаше горко и мољаше се Богу за сина. Једне године о Духовима одведе мајка свог лудог сина у манастир св. Василија у Острогу. После молитава полудели младић оздрави и дође к себи. По том се покаја и поста узорит човек и прави хришћанин. \n\n\n\nСозерцање\n\nДа созерцавам Господа Исуса на крсту распета н то:\n1. како тече крв из Његовнх руку и капље на земљу.\n2. како тече крв из Његових ногу и слива се на земљу.\n3. како тече крв испод Његовог ребра и капље на земљу. \n\n\n\nБеседа\nо борби Јагњета са зверовима\n\nОви ће се побити с Јагњетом и Јагње ће их побиједити\,\nјер је господар над господарима и цар над царевима. (Откр. 17\, 14) \nКо говори ове чудне речи? Јован Боговидац. Ко је то Јагње? Христос Господ. Ко је то господар над господарима и цар над царевима? Христос Господ. С ким ће се то Он побити\, и кога ће победити? То је звер седмоглава\, и сви они који од те нечисте звери примају власт\, и част\, и богатство. \nЈагње посред звериња! Но\, ипак\, виде св. Јован Јагње као победиоца над свима зверовима. Христос посреди демона! Рекао би прогутаће Га! Па ипак\, демони устрашени вичу к Њему за милост и беже од Њега безобзирно. Христос међу Својим мучитељима! Рекао би: умртвиће Га заувек. Па ипак\, Он васкрсава и побеђује\, а они беже у страху и гину. Црква Христова међи незнабошцима! Рекао би преплавиће је као таласи малено острво! Па ипак: назнабожачка царства тону и пропадају\, а Црква постоји\, расте и напредује. Вера Христова посред опорих философа и теоретичара! Рекао би: надмудриће је и избацити из света! Па ипак\, они један другог у лаж угоне\, и прогоне\, а вера Христова спасава људе. Благочешће међу богохулницима и богоодрицатељима! Рекао би: упрљаће је! Па ипак они се даве у својој прљавштини\, а благочешће носи се у неупрљаној чистоти. Кротост и плачевност хришћанска посред насилника и отмичара! Рекао би: умреће од глади! Па ипак\, она живи и ходи сита\, а насилници и отмичари пропадају од глади. Јагње посред зверињака! Па ипак – Јагње је победилац. \nО Господе кротки и добри\, Јагње Божје преумилно\, запој и нас Твојом кротошћу и добротом\, те да и ми будемо учасници Твоје победе! Теби слава и хвала вавек. Амин.
URL:https://stsavanyc.org/event/prepodobni-oci-poubijani-u-manastiru-svetog-save-osvecenog/
ATTACH;FMTTYPE=image/jpeg:https://stsavanyc.org/wp-content/uploads/sv-fotina.jpg
END:VEVENT
END:VCALENDAR