BEGIN:VCALENDAR
VERSION:2.0
PRODID:-//Serbian Orthodox Church of Saint Sava in New York - ECPv6.15.20//NONSGML v1.0//EN
CALSCALE:GREGORIAN
METHOD:PUBLISH
X-ORIGINAL-URL:https://stsavanyc.org
X-WR-CALDESC:Events for Serbian Orthodox Church of Saint Sava in New York
REFRESH-INTERVAL;VALUE=DURATION:PT1H
X-Robots-Tag:noindex
X-PUBLISHED-TTL:PT1H
BEGIN:VTIMEZONE
TZID:America/New_York
BEGIN:DAYLIGHT
TZOFFSETFROM:-0500
TZOFFSETTO:-0400
TZNAME:EDT
DTSTART:20250309T070000
END:DAYLIGHT
BEGIN:STANDARD
TZOFFSETFROM:-0400
TZOFFSETTO:-0500
TZNAME:EST
DTSTART:20251102T060000
END:STANDARD
BEGIN:DAYLIGHT
TZOFFSETFROM:-0500
TZOFFSETTO:-0400
TZNAME:EDT
DTSTART:20260308T070000
END:DAYLIGHT
BEGIN:STANDARD
TZOFFSETFROM:-0400
TZOFFSETTO:-0500
TZNAME:EST
DTSTART:20261101T060000
END:STANDARD
BEGIN:DAYLIGHT
TZOFFSETFROM:-0500
TZOFFSETTO:-0400
TZNAME:EDT
DTSTART:20270314T070000
END:DAYLIGHT
BEGIN:STANDARD
TZOFFSETFROM:-0400
TZOFFSETTO:-0500
TZNAME:EST
DTSTART:20271107T060000
END:STANDARD
END:VTIMEZONE
BEGIN:VEVENT
DTSTART;VALUE=DATE:20260208
DTEND;VALUE=DATE:20260209
DTSTAMP:20260421T045202
CREATED:20250203T220102Z
LAST-MODIFIED:20260207T214915Z
UID:7227-1770508800-1770595199@stsavanyc.org
SUMMARY:Преподобни Ксенофонт и Марија
DESCRIPTION:Пролог за 26. јануар\n8. фебруар по новом календару \n\n\n\nПреподобни Ксенофонт и Марија\, и синови њихови Јован и Аркадије\n\nУгледни и богати Цариграђани\, Ксенофонт и Марија\, живљаху животом богоугодним и сву пажњу посвећиваху хришћанском васпитању синова својих. Када им синови порастоше\, послаше их на науке у Вирит (Бејрут); но догоди се\, да бура потопи лађу. Промислом пак Божјим Јован и Аркадије буду некако спасени и таласима избачени на обалу\, али на два разна места\, тако да сваки мишљаше за другога да је потонуо. Из туге један за другим они се оба замонаше у два разна манастира. После две године ожалошћени њихови родитељи дођу у Јерусалим на поклоњење светињама. Тамо помоћу прозорљивости једнога духовника састану се најпре брат с братом\, а потом и родитељи с децом својом. Из благодарности према Богу Ксенофонт и Марија раздаду све своје имање сиромасима\, а они се обоје замонаше. Дирљива историја ове четири свете душе јасно показује како Господ дивно руководи судбом оних\, који у Њега верују; како попушта на њих муку и жалост\, да би их после\, још већма ојачане у вери\, увео у што већу радост. Живели и упокојили се у Господу у V веку. \n\n\n\nПреподобни Симеон Ветхи\n\nДруг и пријатељ светог Паладија. Од ране младости па до смрти подвизавао се у једном вертепу. Основао два манастира и упокојио се у Господу 390. године. Ветхим\, или Старим\, назива се за разлику од Симеона Столпника\, који се нешто доцније подвизавао. \n\n\n\nСвети Давид\, цар Грузијски (1089-1130)\n\nОбновио и оснажио Грузију као државу. Као велики ревнитељ вере хришћанске сазидао је многе нове храмове по Грузији и старе оправио. Сматра се препородитељем вере православне у Грузији. \n\n\n\n\nСвет je овај туђин\, a ми изгнаници\,\nСа царским сновима робље у тамници\,\nЗаблудела деца c тугом Оца траже\,\nТуђини их зову и сластима блаже.\nКами ћe ублажит духове јуначке\nТуђини чије су све сласти мртвачке!\nТуђин смрћу дише и на смрт мирише\,\nTo што јутром пише\, то вечером брише.\nA царевић изгнан за царством уздише\,\nЗа бесмртним царством\, за ваздухом свише\,\nГде му Отац влада\, где ништ’ није туђе\,\nГде се за смрт не зна ни за мирис буђе.\nO пречудни свете\, o страшни кавезе!\nKo je c’ Христом везан\, кида твоје везе\,\nИ слободан бива од сваког и свега\,\nTaj нит’ c тобом иде\, нит’ од тебе бега\,\nНо спрема се вредно\, да из тебе оде\nУ наручја Оца\, у царство слободе. \n\n\n\nРасуђивање\n\nНајвеће благо једне државе јесу свети и добри људи\, који у њој живе. Сравњено с тим благом свако друго благо је као ништа. Благочестиви цареви хришћански сматрали су свете људе у својој држави највећим благословом Божјим. Св. цар Константин Велики говорио је: „Благодарим Господу Исусу Христу\, што у моје дане постоје три божанствена светила: блажени авва Антоније\, авва Еленије и авва Евхин.“ Пред Куликовску битку\, судбоносну за Русију\, благочестиви књаз Димитрије Донски\, са доглавницима и војводама отишао беше у шуму Радонежску\, да потражи преподобног Сергеја и замоли га за молитве његове Богу. Иако је књаз био спремио војску за ослободилачки рат против Татара\, некако је већу наду полагао у молитву једног светог човека него ли у многољудну војску и оружје. \n\n\n\nСозерцање\n\nДа созерцавам Господа Исуса као пророка и то:\n1. као пророка који је јасно прорекао појединцима (као: Петру\, Јовану\, Јуди и осталим апостолима) оно што ће им се десити у будућности\,\n2. као пророка који је јасно прорекао будућност Јерусалиму и другим неким градовима; народу јеврејском и цркви Божјој\,\n3. као пророка који је јасно прорекао крај света и Свој други долазак. \n\n\n\nБеседа\nо недоумици грехом помрачених\n\nКо је овај што и гријехе опрашта? (Лк. 7\, 49) \nТако су питали непокајани грешници: ко је овај? То је Онај који највећма и осећа жаоку људских греха; на кога и падају сви људски греси као шамари. То је Онај који је некада у Рају гледао човека безгрешна; Онај који је човека и створио безгрешним\, а који је и сам безгрешан одувек и заувек. \nОпростити може само онај ко може и одмаздити. Моћан човек свети се одмаздом\, немоћан мржњом. Ако ти можеш вратити нанети удар и не вратиш\, то не значи још да си опростио\, све докле корен гњева не ишчупаш из срца. Велики је једини Господ\, који може и одмаздити и опростити: велики је у правди\, јер ће одмаздити непокајаном грешнику; велики је у милости\, јер ће опростити покајаном. \nО кад би људи знали силу опроштаја грехова! Гле\, кад се слепом опросте греси\, он прогледа; глувом – и он прочује; грбавом – и он се исправи; крвоточном – и он оздрави; лудом – и он се опамети; поседнутом ђаволима – и он се ослободи; блудници – и она се очисти; мртвоме – и он оживи! \nНо\, о како је ужасан синџир греха! Какви тешки синџири – многи греси! Ти синџири се не дреше грешним рукама. А када се рука пречистога Господа њих дотакне\, они се сами од себе развезују и распадају. Када глас Чистога до њих допре\, они се распадају. И од погледа Чистога они се распадају. Да\, чак и од помисли Чистога они се распадају – ти грозни синџири греха. \nКо је овај што и гријехе опрашта? То је\, грешници\, Господ пречисти\, и због чистоте свемоћни. \nГосподе пречисти и свемоћни\, ослободи и нас окова греха. Теби слава и хвала вавек. Амин. \n\n\n\n\n 
URL:https://stsavanyc.org/event/prepodobni-ksenofont-i-marija/
ATTACH;FMTTYPE=image/jpeg:https://stsavanyc.org/wp-content/uploads/ksenofont-i-marija.jpg
END:VEVENT
END:VCALENDAR