BEGIN:VCALENDAR
VERSION:2.0
PRODID:-//Serbian Orthodox Church of Saint Sava in New York - ECPv6.15.20//NONSGML v1.0//EN
CALSCALE:GREGORIAN
METHOD:PUBLISH
X-WR-CALNAME:Serbian Orthodox Church of Saint Sava in New York
X-ORIGINAL-URL:https://stsavanyc.org
X-WR-CALDESC:Events for Serbian Orthodox Church of Saint Sava in New York
REFRESH-INTERVAL;VALUE=DURATION:PT1H
X-Robots-Tag:noindex
X-PUBLISHED-TTL:PT1H
BEGIN:VTIMEZONE
TZID:America/New_York
BEGIN:DAYLIGHT
TZOFFSETFROM:-0500
TZOFFSETTO:-0400
TZNAME:EDT
DTSTART:20250309T070000
END:DAYLIGHT
BEGIN:STANDARD
TZOFFSETFROM:-0400
TZOFFSETTO:-0500
TZNAME:EST
DTSTART:20251102T060000
END:STANDARD
BEGIN:DAYLIGHT
TZOFFSETFROM:-0500
TZOFFSETTO:-0400
TZNAME:EDT
DTSTART:20260308T070000
END:DAYLIGHT
BEGIN:STANDARD
TZOFFSETFROM:-0400
TZOFFSETTO:-0500
TZNAME:EST
DTSTART:20261101T060000
END:STANDARD
BEGIN:DAYLIGHT
TZOFFSETFROM:-0500
TZOFFSETTO:-0400
TZNAME:EDT
DTSTART:20270314T070000
END:DAYLIGHT
BEGIN:STANDARD
TZOFFSETFROM:-0400
TZOFFSETTO:-0500
TZNAME:EST
DTSTART:20271107T060000
END:STANDARD
END:VTIMEZONE
BEGIN:VEVENT
DTSTART;VALUE=DATE:20260204
DTEND;VALUE=DATE:20260205
DTSTAMP:20260421T045103
CREATED:20250203T215214Z
LAST-MODIFIED:20260207T212425Z
UID:7215-1770163200-1770249599@stsavanyc.org
SUMMARY:Свети апостол Тимотеј; преподобни мученик Анастасије
DESCRIPTION:Пролог за 22. јануар\n4. фебруар по новом календару \n\n\n\nСвети апостол Тимотеј\n\nЈедан од Седамдесет апостола. Рођен у Листри Ликаонској од оца Грка и мајке Јеврејке. Мајку и бабу му похваљује апостол Павле због вере нелицемерне (2. Тим 1\, 4-5). У Листри се Тимотеј срео први пут са великим апостолом\, и сам био сведок када је Павле исцелио хромог од рођења. Доцније је Тимотеј био безмало сталан сапутник Павлов\, обишавши са њим Ахају\, Македонију\, Италију и Шпанију. Велики ревнитељ вере\, изврстан беседник и сладак душом\, Тимотеј је много допринео распрострањењу и утврђењу вере хришћанске. Павле га назива правим сином у вјери (1. Тим 1\, 2). По мученичкој смрти Павловој Тимотеј је имао за учитеља светог Јована Јеванђелиста. Али када овога цар Дометијан прогна из Ефеса на острво Патмос\, Тимотеј оста у Ефесу да епископује. У време неког идолског празника званог Катагогиум\, незнабошци\, кивни на хришћане\, мучки и под маскама нападну Тимотеја и убију га (око 93. године). Часне мошти његове доцније су пренете у Цариград и сахрањене у цркви Светих Апостола\, до гроба светог Луке Јеванђелиста и светог Андреја Првозваног. \n\n\n\nПреподобни мученик Анастасије\n\nПерсијанац по роду. Незнабожачко му име беше Магундат. Када цар Ираклије ратоваше с Персијанцима\, Магундат пребегне хришћанима\, оде у Јерусалим где се крсти и добије име Анастасије. Не беше му доста што се крстио\, него се и замонаши\, да би се сав предао служењу Господу. Поред осталих подвига врло је рано читао житије светих мученика и читајући\, квасио је књигу сузама\, и сам жарко чезнући за мучеништвом. Господ га је најзад увенчао венцем мученичким. Дуго лежаше у тамници и би љуто мучен\, док му цар Хозроје не изрече смртну пресуду. По тој пресуди Анастасије би удављен у води\, па после извађен из воде\, и џелат му одсече главу и посла цару. Пострада 22. јануара 628. године у граду Бетсалое\, близу Ниниве. \n\n\n\n\nАпостоли Свети\, Духом загрејани\,\nДуховни атлети\, Духом обасјани\,\nПобедом Христовом свет су победили\,\nСвет су победили\, Цркву утврдили.\nОрлови велики\, летели су снажно.\nУ муке и у смрт јурили одважно.\nОд света сe лако\, лако растадоше\,\nОд Христа се никад растат’ не могоше.\nХристова их љубав од свега растави\,\nХристова их љубав ва в’еки прослави.\nПоругани некад од земних тирана\,\nСад су крунисани блеском вечног дана:\nИсмејани негда од земних мудраца.\nСад – браћа ангела\, и вође светаца!\nМолите се за нас\, Христови орлови\,\nИ нас грешне Христос Духом да обнови.\nСвети Тимотије\, звездо међ’ звездама\,\nПомози и нама твојим молитвама. \n\n\n\nРасуђивање\n\nПравославна црква поседује неисцрпно благо у доказима живота после смрти. Да наведемо овде један од безбројних\, један пример који у исто време сведочи и да душе људске живе после телесне смрти и да драговољна послушност води блаженој бесмртности. Када св. Теодосије Велики основа манастир\, имађаше у почетку само седам монаха. Да би ове добро утврдио у сећању на смрт\, нареди да се ископа један гроб. Када гроб би готов\, Теодосије стаде више гроба\, окружен седморицом\, и рече: „Ево\, децо\, гроба готова! Има ли ко међу вама готов за смрт\, да би се сахранио у овај гроб?“ Један од њих\, Василије по имену и свештеник по чину\, паде на колена и потражи од Теодосија благослов да умре. Теодосије нареди да се Василију држе помени и подушја: трећина\, деветина и четрдесетница\, како је обичај над мртвима. Када се сврши четрдесетодневни помен\, Василије\, здрав потпуно\, леже и умре. И би сахрањен у нови гроб. У четрдесети дан пак по његовом погребу\, Василије се јави једно јутро међу братијом у цркви и појаше са њима. Виде га најпре само Теодосије\, па се помоли Богу\, да Бог отвори очи и осталима. И сва братија погледаше и видеше Василија међу собом. Један брат\, Летије\, од радости рашири руке и хтеде загрлити Василија\, но овај ишчезе. А чу се глас Василијев: „Спасавајте се оци и братије\, спасавајте се!“ \n\n\n\nСозерцање\n\nДа созерцавам безбрижност Господа Исуса у погледу јела и одела и то:\n1. безбрижност Његову о Себи\, коју Он на делу показује\,\n2. безбрижност о јелу и оделу\, коју Он и другима проповеда (Мат. 6\, 31). \n\n\n\nБеседа\nо Божјем свезнању и промислу\n\nА вама је и коса на глави сва избројана. (Мат. 10\, 30) \nИ коса вам је на глави избројана\, браћо\, а камоли дани живота! Не бојте се\, дакле\, да ћете умрети пре одређеног времена\, нити се надајте пак\, да ћете ма како моћи продужити живот и за један дан мимо воље Онога који броји и мери. Ово сазнање нека вас научи кротости и страху Божјем. \nИ коса вам је на глави избројана\, а камоли страдања ваша на земљи! Не бојте се\, дакле\, да ћете страдати више од мере. Још мање бојте се да ће ваша страдања остати заборављена и неурачуната од Онога који све види. Ово сазнање научиће вас стрпљењу и поверењу према Творцу вашем и Промислитељу. \nИ коса вам је на глави избројана\, а камоли ваши пријатељи и непријатељи на земљи! Не бојте се\, дакле\, да ћете имати ни сувише пријатеља ни сувише непријатеља; нити се бојте да ће вас ваши непријатељи савладати\, нити се надајте да ће вас ваши пријатељи одбранити. Само се старајте да имате Бога за пријатеља\, и не бојте се ништа. Гле\, Он је једини пријатељ ваш\, који вас непроменљиво воли. \nО Господе благи\, Промислитељу мудри\, који знаш свему број\, меру и време\, одагнај од нас сваки страх осим страха од Тебе. Да бисмо кроз страх од Тебе дошли до чисте и свете љубави према Теби\, Творцу и Добротвору нашем. Теби слава и хвала вавек. Амин. \n\n\n\n\n 
URL:https://stsavanyc.org/event/sveti-apostol-timotej-prepodobni-mucenik-anastasije/
ATTACH;FMTTYPE=image/jpeg:https://stsavanyc.org/wp-content/uploads/sv-apostol-timotej.jpg
END:VEVENT
END:VCALENDAR